BEGIN:VCALENDAR
VERSION:2.0
PRODID:-//hacksw/handcal//NONSGML v1.0//EN
BEGIN:VEVENT
DTSTAMP:20250223T163000Z
DTSTART:20250223T163000Z
DTEND:20250223T163000Z
LOCATION:Waldreitersaal, Barkholt 64, Großhansdorf, 22927, Deutschland
SUMMARY:CDU Stormarn - Wahlparty mit Henri Schmidt (WK10)
END:VEVENT
END:VCALENDAR
