BEGIN:VCALENDAR
VERSION:2.0
PRODID:-//hacksw/handcal//NONSGML v1.0//EN
BEGIN:VEVENT
DTSTAMP:20250310T193000Z
DTSTART:20250310T193000Z
DTEND:20250310T193000Z
LOCATION:Anmeldung zur Onlinesitzung unter jan.oliver.kammesheidt@cdu-stormarn.de, Deutschland
SUMMARY:CDU Stormarn - Online-Sitzung des Arbeitskreises Sicherheit (AK-1) 
END:VEVENT
END:VCALENDAR
