BEGIN:VCALENDAR
VERSION:2.0
PRODID:-//hacksw/handcal//NONSGML v1.0//EN
BEGIN:VEVENT
DTSTAMP:20250313T180000Z
DTSTART:20250313T180000Z
DTEND:20250313T180000Z
LOCATION:Hofsaal im Schloss Reinbek, Reinbek, Deutschland
SUMMARY:CDU Reinbek - Traditionelles Entenessen (nur mit Anmeldung!)
END:VEVENT
END:VCALENDAR
