BEGIN:VCALENDAR
VERSION:2.0
PRODID:-//hacksw/handcal//NONSGML v1.0//EN
BEGIN:VEVENT
DTSTAMP:20250908T163000Z
DTSTART:20250908T163000Z
DTEND:20250908T163000Z
LOCATION:Digitale Veranstaltung, Deutschland
SUMMARY:CDU Stormarn - Sitzung des Kreisvorstandes (online)
END:VEVENT
END:VCALENDAR
