BEGIN:VCALENDAR
VERSION:2.0
PRODID:-//hacksw/handcal//NONSGML v1.0//EN
BEGIN:VEVENT
DTSTAMP:20251110T180000Z
DTSTART:20251110T180000Z
DTEND:20251110T180000Z
LOCATION:Forsthaus Seebergen, Seebergen 9 – 15, Lütjensee, 22952, Deutschland
SUMMARY:CDU Lütjensee - Jahreshauptversammlung (inkl. Vorstandswahlen)
END:VEVENT
END:VCALENDAR
