BEGIN:VCALENDAR
VERSION:2.0
PRODID:-//hacksw/handcal//NONSGML v1.0//EN
BEGIN:VEVENT
DTSTAMP:20260527T163000Z
DTSTART:20260527T163000Z
DTEND:20260527T163000Z
LOCATION:Onlineveranstaltung, Deutschland
SUMMARY:CDU Stormarn - Sitzung des Kreisvorstands
END:VEVENT
END:VCALENDAR
