BEGIN:VCALENDAR
VERSION:2.0
PRODID:-//hacksw/handcal//NONSGML v1.0//EN
BEGIN:VEVENT
DTSTAMP:20260311T173000Z
DTSTART:20260311T173000Z
DTEND:20260311T173000Z
LOCATION:im Bürgersaal Oststeinbek, Möllner Landstraße 22, Oststeinbek, 22113, Deutschland
SUMMARY:CDU Stormarn - Kreisparteitag mit Ministerin Cornelia Schmachtenberg
END:VEVENT
END:VCALENDAR
