BEGIN:VCALENDAR
VERSION:2.0
PRODID:-//hacksw/handcal//NONSGML v1.0//EN
BEGIN:VEVENT
DTSTAMP:20161210T090000Z
DTSTART:20161210T090000Z
DTEND:20161210T090000Z
LOCATION:"stormaner wege", Langeneßweg 6, Ahrensburg, 22926, Deutschland
SUMMARY:Forum für Menschen mit Behinderung
END:VEVENT
END:VCALENDAR
