BEGIN:VCALENDAR
VERSION:2.0
PRODID:-//hacksw/handcal//NONSGML v1.0//EN
BEGIN:VEVENT
DTSTAMP:20170111T180000Z
DTSTART:20170111T180000Z
DTEND:20170111T180000Z
LOCATION:Braaker Krug, Am Spötzen 1, Braak, 22145, Deutschland
SUMMARY:Ortsvorsitzendenkonferenz/Kreisverbandsausschuss
END:VEVENT
END:VCALENDAR
