BEGIN:VCALENDAR
VERSION:2.0
PRODID:-//hacksw/handcal//NONSGML v1.0//EN
BEGIN:VEVENT
DTSTAMP:20171208T180000Z
DTSTART:20171208T180000Z
DTEND:20171208T180000Z
LOCATION:Hofküche, Tangstedt, Deutschland
SUMMARY:Wahlkreisversammlung der CDU Tangstedt zur Kommunalwahl
END:VEVENT
END:VCALENDAR
