BEGIN:VCALENDAR
VERSION:2.0
PRODID:-//hacksw/handcal//NONSGML v1.0//EN
BEGIN:VEVENT
DTSTAMP:20180228T183000Z
DTSTART:20180228T183000Z
DTEND:20180228T183000Z
LOCATION:Gasthof unter den Linden, Dorfstraße 23, Grönwohld, 22956, Deutschland
SUMMARY:Jahreshauptversammlung des Ortsverbandes Grönwohld
END:VEVENT
END:VCALENDAR
