BEGIN:VCALENDAR
VERSION:2.0
PRODID:-//hacksw/handcal//NONSGML v1.0//EN
BEGIN:VEVENT
DTSTAMP:20180328T173000Z
DTSTART:20180328T173000Z
DTEND:20180328T173000Z
LOCATION:Gemeinschaftshaus, Lindenstraße 8, Rümpel, 23843, Deutschland
SUMMARY:Jahreshauptversammlung des Ortsverbandes Rümpel
END:VEVENT
END:VCALENDAR
