BEGIN:VCALENDAR
VERSION:2.0
PRODID:-//hacksw/handcal//NONSGML v1.0//EN
BEGIN:VEVENT
DTSTAMP:20180501T090000Z
DTSTART:20180501T090000Z
DTEND:20180501T090000Z
LOCATION:Bei Dirk Eggers in Klein Boden, Dorfstraße 1, Deutschland
SUMMARY:Lernen Sie die CDU Rethwisch kennen!
END:VEVENT
END:VCALENDAR
