BEGIN:VCALENDAR
VERSION:2.0
PRODID:-//hacksw/handcal//NONSGML v1.0//EN
BEGIN:VEVENT
DTSTAMP:20180819T090000Z
DTSTART:20180819T090000Z
DTEND:20180819T090000Z
LOCATION:Hof des Reinbeker Schlosses, Deutschland
SUMMARY:Swinging Reinbek: 14. Jazz-Frühschoppen der CDU Reinbek
END:VEVENT
END:VCALENDAR
