BEGIN:VCALENDAR
VERSION:2.0
PRODID:-//hacksw/handcal//NONSGML v1.0//EN
BEGIN:VEVENT
DTSTAMP:20180907T173000Z
DTSTART:20180907T173000Z
DTEND:20180907T173000Z
LOCATION:Bürgerhaus (BGH), An der Friedenslinde 3, Delingsdorf, 22941, Deutschland
SUMMARY:Jahreshauptversammlung der CDU Delingsdorf
END:VEVENT
END:VCALENDAR
