BEGIN:VCALENDAR
VERSION:2.0
PRODID:-//hacksw/handcal//NONSGML v1.0//EN
BEGIN:VEVENT
DTSTAMP:20190713T160000Z
DTSTART:20190713T160000Z
DTEND:20190713T160000Z
SUMMARY: CDU-Treff der CDU Delingsdorf mit Grillen
END:VEVENT
END:VCALENDAR
