BEGIN:VCALENDAR
VERSION:2.0
PRODID:-//hacksw/handcal//NONSGML v1.0//EN
BEGIN:VEVENT
DTSTAMP:20190106T100000Z
DTSTART:20190106T100000Z
DTEND:20190106T100000Z
LOCATION:Bürgerhaus, Delingsdorf, Deutschland
SUMMARY:Neujahrsempfang mit Ole-Christopher Plambeck, MdL der CDU Delingsdorf
END:VEVENT
END:VCALENDAR
