BEGIN:VCALENDAR
VERSION:2.0
PRODID:-//hacksw/handcal//NONSGML v1.0//EN
BEGIN:VEVENT
DTSTAMP:20190328T230000Z
DTSTART:20190328T230000Z
DTEND:20190328T230000Z
SUMMARY:Theaterabend mit der Landjugend mit der CDU Pölitz
END:VEVENT
END:VCALENDAR
