BEGIN:VCALENDAR
VERSION:2.0
PRODID:-//hacksw/handcal//NONSGML v1.0//EN
BEGIN:VEVENT
DTSTAMP:20190219T170000Z
DTSTART:20190219T170000Z
DTEND:20190219T170000Z
LOCATION:Fraktionszimmer, Möllner Landstraße 24B - Dachgeschoss im Gebäude der VHS, Eingang auf der Gebäuderückseite., Oststeinbek, 22113, Deutschland
SUMMARY:Mitgliederversammlung der CDU Oststeinbek - Havighorst
END:VEVENT
END:VCALENDAR
