BEGIN:VCALENDAR
VERSION:2.0
PRODID:-//hacksw/handcal//NONSGML v1.0//EN
BEGIN:VEVENT
DTSTAMP:20190327T183000Z
DTSTART:20190327T183000Z
DTEND:20190327T183000Z
LOCATION:Landhaus Hoisdorf, Dorfstraße 14, Hoisdorf, Deutschland
SUMMARY:Jahreshauptversammlung der CDU Hoisdorf
END:VEVENT
END:VCALENDAR
