BEGIN:VCALENDAR
VERSION:2.0
PRODID:-//hacksw/handcal//NONSGML v1.0//EN
BEGIN:VEVENT
DTSTAMP:20190816T160000Z
DTSTART:20190816T160000Z
DTEND:20190816T160000Z
LOCATION:Hauptstraße 27, Hammoor, Deutschland
SUMMARY:Storchenfest der CDU Hammoor
END:VEVENT
END:VCALENDAR
