BEGIN:VCALENDAR
VERSION:2.0
PRODID:-//hacksw/handcal//NONSGML v1.0//EN
BEGIN:VEVENT
DTSTAMP:20190623T090000Z
DTSTART:20190623T090000Z
DTEND:20190623T090000Z
LOCATION:Hof Dusenschön, Sachsenwaldstrasse 14, Reinbek, Deutschland
SUMMARY:Sommerfest der CDU Reinbek
END:VEVENT
END:VCALENDAR
