BEGIN:VCALENDAR
VERSION:2.0
PRODID:-//hacksw/handcal//NONSGML v1.0//EN
BEGIN:VEVENT
DTSTAMP:20190410T170000Z
DTSTART:20190410T170000Z
DTEND:20190410T170000Z
LOCATION:Mensa der Immanuel-Kant-Schule, Bischofsteicherweg 75 b, Reinfeld, Deutschland
SUMMARY:Schleswig-Holsteins-Zukunft in Europa — Niclas Herbst in Reinfeld
END:VEVENT
END:VCALENDAR
