BEGIN:VCALENDAR
VERSION:2.0
PRODID:-//hacksw/handcal//NONSGML v1.0//EN
BEGIN:VEVENT
DTSTAMP:20190509T160000Z
DTSTART:20190509T160000Z
DTEND:20190509T160000Z
LOCATION:Treffpunkt Rathaus und zum Grillen Restaurant Galini, Deutschland
SUMMARY:Radtour der CDU Großhansdorf mit Grillen im Anschluss
END:VEVENT
END:VCALENDAR
