BEGIN:VCALENDAR
VERSION:2.0
PRODID:-//hacksw/handcal//NONSGML v1.0//EN
BEGIN:VEVENT
DTSTAMP:20200219T230000Z
DTSTART:20200219T230000Z
DTEND:20200301T230000Z
SUMMARY:Postschiffroute mit Nordlichtversprechen der CDU Bargteheide
END:VEVENT
END:VCALENDAR
