BEGIN:VCALENDAR
VERSION:2.0
PRODID:-//hacksw/handcal//NONSGML v1.0//EN
BEGIN:VEVENT
DTSTAMP:20190918T180000Z
DTSTART:20190918T180000Z
DTEND:20190918T180000Z
LOCATION:Bürgerhaus, Schulsteig 3, Heidekamp, Deutschland
SUMMARY:Jahreshauptversammlung der CDU Heidekamp
END:VEVENT
END:VCALENDAR
