BEGIN:VCALENDAR
VERSION:2.0
PRODID:-//hacksw/handcal//NONSGML v1.0//EN
BEGIN:VEVENT
DTSTAMP:20191024T220000Z
DTSTART:20191024T220000Z
DTEND:20191025T220000Z
SUMMARY:Klausurtagung der CDU Kreistagsfraktion Stormarn
END:VEVENT
END:VCALENDAR
