BEGIN:VCALENDAR
VERSION:2.0
PRODID:-//hacksw/handcal//NONSGML v1.0//EN
BEGIN:VEVENT
DTSTAMP:20191104T184500Z
DTSTART:20191104T184500Z
DTEND:20191104T184500Z
LOCATION:Landgasthof Eckkrug, Deutschland
SUMMARY:Zarpen 2025 - Was braucht die Gemeinde?
END:VEVENT
END:VCALENDAR
