BEGIN:VCALENDAR
VERSION:2.0
PRODID:-//hacksw/handcal//NONSGML v1.0//EN
BEGIN:VEVENT
DTSTAMP:20200127T183000Z
DTSTART:20200127T183000Z
DTEND:20200127T183000Z
LOCATION:Gasthof unter den Linden, Deutschland
SUMMARY:Jahreshauptversammlung der CDU Grönwohld
END:VEVENT
END:VCALENDAR
