BEGIN:VCALENDAR
VERSION:2.0
PRODID:-//hacksw/handcal//NONSGML v1.0//EN
BEGIN:VEVENT
DTSTAMP:20201114T150000Z
DTSTART:20201114T150000Z
DTEND:20201114T150000Z
LOCATION:Fam. Möck, Dorfstraße 42, Deutschland
SUMMARY:Abgrillen und Anpunschen der CDU Badendorf
END:VEVENT
END:VCALENDAR
