BEGIN:VCALENDAR
VERSION:2.0
PRODID:-//hacksw/handcal//NONSGML v1.0//EN
BEGIN:VEVENT
DTSTAMP:20210823T173000Z
DTSTART:20210823T173000Z
DTEND:20210823T173000Z
LOCATION:Röperkate Grönwohld, Bahnhofstraße 5, Grönwohld, 22956, Deutschland
SUMMARY:Jahreshauptversammlung der CDU Grönwohld
END:VEVENT
END:VCALENDAR
