BEGIN:VCALENDAR
VERSION:2.0
PRODID:-//hacksw/handcal//NONSGML v1.0//EN
BEGIN:VEVENT
DTSTAMP:20210930T173000Z
DTSTART:20210930T173000Z
DTEND:20210930T173000Z
LOCATION:Gemeinschaftshaus Pölitz, Schulstraße 1, Pölitz, 23847, Deutschland
SUMMARY:Jahreshauptversammlung der CDU Pölitz
END:VEVENT
END:VCALENDAR
