BEGIN:VCALENDAR
VERSION:2.0
PRODID:-//hacksw/handcal//NONSGML v1.0//EN
BEGIN:VEVENT
DTSTAMP:20211203T180000Z
DTSTART:20211203T180000Z
DTEND:20211203T180000Z
LOCATION:Restaurant Fotiou, Lübecker Strasse 15, 22941, 22941, Deutschland
SUMMARY:ABGESAGT: Klönschnack der CDU Delingsdorf
END:VEVENT
END:VCALENDAR
