BEGIN:VCALENDAR
VERSION:2.0
PRODID:-//hacksw/handcal//NONSGML v1.0//EN
BEGIN:VEVENT
DTSTAMP:20221125T180000Z
DTSTART:20221125T180000Z
DTEND:20221125T180000Z
LOCATION:Restaurant Fotiou, Lübecker Straße 15, Delingsdorf, 22941, Deutschland
SUMMARY:CDU Delingsdorf - Klönschnack
END:VEVENT
END:VCALENDAR
