BEGIN:VCALENDAR
VERSION:2.0
PRODID:-//hacksw/handcal//NONSGML v1.0//EN
BEGIN:VEVENT
DTSTAMP:20221109T190000Z
DTSTART:20221109T190000Z
DTEND:20221109T190000Z
LOCATION:Bahnhofsgaststätte Bern, Poststraße 1a, Steinburg, 22964, Deutschland
SUMMARY:CDU Steinburg - Mitgliederversammlung (inkl. Kandidatenaufstellung KW´23)
END:VEVENT
END:VCALENDAR
