BEGIN:VCALENDAR
VERSION:2.0
PRODID:-//hacksw/handcal//NONSGML v1.0//EN
BEGIN:VEVENT
DTSTAMP:20221128T170000Z
DTSTART:20221128T170000Z
DTEND:20221128T190000Z
LOCATION:im Clubhaus des THC Blau-Weiß, Kurparkallee 11, Bad Oldesloe, 23843, Deutschland
SUMMARY:CDU Bad Oldesloe - Punsch und Politik - Was Politik für uns bedeutet
END:VEVENT
END:VCALENDAR
