BEGIN:VCALENDAR
VERSION:2.0
PRODID:-//hacksw/handcal//NONSGML v1.0//EN
BEGIN:VEVENT
DTSTAMP:20230120T183000Z
DTSTART:20230120T183000Z
DTEND:20230120T183000Z
LOCATION:Restaurant Papillon, Hamburger Str. 3, Bargteheide, Deutschland
SUMMARY:CDU Bargteheide - Grünkohlessen
END:VEVENT
END:VCALENDAR
