BEGIN:VCALENDAR
VERSION:2.0
PRODID:-//hacksw/handcal//NONSGML v1.0//EN
BEGIN:VEVENT
DTSTAMP:20230123T183000Z
DTSTART:20230123T183000Z
DTEND:20230123T183000Z
LOCATION:Gasthof Unter den Linden, Dorfstraße 23, Grönwohld, 22956, Deutschland
SUMMARY:CDU Grönwohld - Mitgliederversammlung zur Kandidatenaufstellung KW'23
END:VEVENT
END:VCALENDAR
