BEGIN:VCALENDAR
VERSION:2.0
PRODID:-//hacksw/handcal//NONSGML v1.0//EN
BEGIN:VEVENT
DTSTAMP:20241001T160000Z
DTSTART:20241001T160000Z
DTEND:20241001T160000Z
LOCATION:Lokation & Zeitplan wird rechtzeitig bekannt gegeben..., Neumünster, Deutschland
SUMMARY:CDU Schleswig-Holstein - Landesparteitag - #SaveTheDate
END:VEVENT
END:VCALENDAR
