BEGIN:VCALENDAR
VERSION:2.0
PRODID:-//hacksw/handcal//NONSGML v1.0//EN
BEGIN:VEVENT
DTSTAMP:20230223T183000Z
DTSTART:20230223T183000Z
DTEND:20230223T183000Z
LOCATION:Reinfelder Schänke, Bischofsteicher Weg 3, Reinfeld, 23858, Deutschland
SUMMARY:CDU Stormarn - 2. Nordstormarn-Stammtisch
END:VEVENT
END:VCALENDAR
