BEGIN:VCALENDAR
VERSION:2.0
PRODID:-//hacksw/handcal//NONSGML v1.0//EN
BEGIN:VEVENT
DTSTAMP:20230301T183000Z
DTSTART:20230301T183000Z
DTEND:20230301T183000Z
LOCATION:im "Ergiebig Leben & Breakfast", Dahmsdorf 19, Zarpen, 23619, Deutschland
SUMMARY:CDU Zarpen - Mitgliederversammlung mit Aufstellung eines 7. Kandidaten
END:VEVENT
END:VCALENDAR
