BEGIN:VCALENDAR
VERSION:2.0
PRODID:-//hacksw/handcal//NONSGML v1.0//EN
BEGIN:VEVENT
DTSTAMP:20230215T180000Z
DTSTART:20230215T180000Z
DTEND:20230215T180000Z
LOCATION:siehe Einladungsschreiben an die Mitglieder, Braak, Deutschland
SUMMARY:CDU Braak - Mitgliederversammlung inkl. Kandidatenaufstellung
END:VEVENT
END:VCALENDAR
