BEGIN:VCALENDAR
VERSION:2.0
PRODID:-//hacksw/handcal//NONSGML v1.0//EN
BEGIN:VEVENT
DTSTAMP:20230302T160000Z
DTSTART:20230302T160000Z
DTEND:20230302T160000Z
LOCATION:Zoom-Call (Anmeldung erforderlich!), Deutschland
SUMMARY:CDU Stormarn / CDU Lübeck - Zoom-Call mit Dr. Norbert Röttgen (MdB)
END:VEVENT
END:VCALENDAR
