BEGIN:VCALENDAR
VERSION:2.0
PRODID:-//hacksw/handcal//NONSGML v1.0//EN
BEGIN:VEVENT
DTSTAMP:20230308T170000Z
DTSTART:20230308T170000Z
DTEND:20230308T170000Z
LOCATION:Elisabeth-Selbert-Zimmer im Bürgerhaus, Markt 2, Glinde, 21509, Deutschland
SUMMARY:CDU Glinde - Mitgliederversammlung mit Kandidatenstellung
END:VEVENT
END:VCALENDAR
