BEGIN:VCALENDAR
VERSION:2.0
PRODID:-//hacksw/handcal//NONSGML v1.0//EN
BEGIN:VEVENT
DTSTAMP:20230227T183000Z
DTSTART:20230227T183000Z
DTEND:20230227T183000Z
LOCATION:Gemeinschaftshaus Rethwisch, Buchraderweg 2, Rethwisch, 23847, Deutschland
SUMMARY:CDU Rethwisch - Jahreshauptversammlung mit Kandidatenaufstellung
END:VEVENT
END:VCALENDAR
