BEGIN:VCALENDAR
VERSION:2.0
PRODID:-//hacksw/handcal//NONSGML v1.0//EN
BEGIN:VEVENT
DTSTAMP:20230309T183000Z
DTSTART:20230309T183000Z
DTEND:20230309T183000Z
LOCATION:Landhaus Nütschau, Am Dreieck 23, Travenbrück, 23843, Deutschland
SUMMARY:CDU Travenbrück - Mitgliederversammlung zur Kandidatenaufstellung
END:VEVENT
END:VCALENDAR
