BEGIN:VCALENDAR
VERSION:2.0
PRODID:-//hacksw/handcal//NONSGML v1.0//EN
BEGIN:VEVENT
DTSTAMP:20230307T183000Z
DTSTART:20230307T183000Z
DTEND:20230307T183000Z
LOCATION:Restaurant Hauck, Stormarnstraße 14, Hamberge, 23619, Deutschland
SUMMARY:CDU Hamberge - Mitgliederversammlung zur Kandidatenaufstellung
END:VEVENT
END:VCALENDAR
