BEGIN:VCALENDAR
VERSION:2.0
PRODID:-//hacksw/handcal//NONSGML v1.0//EN
BEGIN:VEVENT
DTSTAMP:20230324T130000Z
DTSTART:20230324T130000Z
DTEND:20230324T130000Z
LOCATION:Wilhelm-Bergner-Str. 13, Glinde, 21509, Deutschland
SUMMARY:CDU Glinde - „Blick hinter die Kulissen“ - SJH GmbH & Co. KG
END:VEVENT
END:VCALENDAR
