BEGIN:VCALENDAR
VERSION:2.0
PRODID:-//hacksw/handcal//NONSGML v1.0//EN
BEGIN:VEVENT
DTSTAMP:20240327T130000Z
DTSTART:20240327T130000Z
DTEND:20240327T130000Z
LOCATION:Rosenhof, Ahrensburg, Deutschland
SUMMARY:SU Stormarn - Erweiterter Kreisvorstand
END:VEVENT
END:VCALENDAR
