BEGIN:VCALENDAR
VERSION:2.0
PRODID:-//hacksw/handcal//NONSGML v1.0//EN
BEGIN:VEVENT
DTSTAMP:20230510T170000Z
DTSTART:20230510T170000Z
DTEND:20230510T170000Z
LOCATION:im Bürgerhaus, Mühlenstraße 22, Bad Oldesloe, 23843, Deutschland
SUMMARY:CDU Bad Oldesloe - Bezahlbares Wohnen (Landrat Dr. Görtz im Gespräch)
END:VEVENT
END:VCALENDAR
